BEGIN:VCALENDAR
VERSION:2.0
PRODID:-//Specialized New Zealand Bike Demo - ECPv4.6.9//NONSGML v1.0//EN
CALSCALE:GREGORIAN
METHOD:PUBLISH
X-WR-CALNAME:Specialized New Zealand Bike Demo
X-ORIGINAL-URL:http://specializedbikedemo.co.nz
X-WR-CALDESC:Events for Specialized New Zealand Bike Demo
BEGIN:VEVENT
DTSTART;VALUE=DATE:20171204
DTEND;VALUE=DATE:20171211
DTSTAMP:20180125T020515
CREATED:20170710T060937Z
LAST-MODIFIED:20170914T000415Z
UID:345-1512345600-1512950399@specializedbikedemo.co.nz
SUMMARY:Auckland MTB Pop-Up Demo
DESCRIPTION:Demo bikes available to test: \n\nSTUMPJUMPER:\n\nStumpjumper 650B Comp Carbon S\nStumpjumper 650B Comp Carbon M\nStumpjumper 650B Comp Carbon L\nStumpjumper 29 Comp Carbon M\nStumpjumper 29 Comp Carbon L\nStumpjumper 29 Comp Carbon XL\nClick HERE to learn more about the Stumpjumper\n\n\nENDURO:\n\nEnduro Comp 650B S\nEnduro Comp 650B M\nEnduro Comp 29 M\nEnduro Comp 29 L\nClick HERE to learn more about the Enduro\n\n\nTURBO LEVO:\n\nLevo 6Fattie S\nLevo 6Fattie M\nLevo 6Fattie L\nLevo 6Fattie XL\nClick HERE to learn more about the Turbo Levo\n\n\n\n\n
URL:http://specializedbikedemo.co.nz/event/demo-trailer-1-7/
LOCATION:66 Mount Eden Rd\, Mt Eden North\, 1024\, New Zealand
GEO:-36.8703306;174.7608308
X-APPLE-STRUCTURED-LOCATION;VALUE=URI;X-ADDRESS=66 Mount Eden Rd Mt Eden North 1024 New Zealand;X-APPLE-RADIUS=500;X-TITLE=66 Mount Eden Rd:geo:174.7608308,-36.8703306
CATEGORIES:Retailer Pop-Up Demos
END:VEVENT
BEGIN:VEVENT
DTSTART;VALUE=DATE:20171204
DTEND;VALUE=DATE:20171211
DTSTAMP:20180125T020515
CREATED:20170710T234256Z
LAST-MODIFIED:20170914T000344Z
UID:385-1512345600-1512950399@specializedbikedemo.co.nz
SUMMARY:Christchurch MTB Pop-Up Demo
DESCRIPTION:Demo bikes available to test: \n\nEPIC:\n\nEpic Comp Carbon S\nEpic Comp Carbon M\nEpic Comp Carbon L\nEpic Comp Carbon XL\nEpic Comp Carbon Women’s S\nClick HERE to learn more about the Epic\n\n\nCAMBER:\n\nCamber Comp Carbon S\nCamber Comp Carbon M\nCamber Comp Carbon L\nCamber Comp Carbon XL\nClick HERE to learn more about the Camber\n\n\nSTUMPJUMPER:\n\nStumpjumper Comp Carbon 29 M\nStumpjumper Comp Carbon 29 L\nClick HERE to learn more about the Stumpjumper\n\n\nTURBO LEVO:\n\nLevo 6Fattie S\nLevo 6Fattie M\nLevo 6Fattie L\nClick HERE to learn more about the Turbo Levo\n\n\n\n\n
URL:http://specializedbikedemo.co.nz/event/demo-trailer-2-12/
LOCATION:1 Garlands Rd\, Woolston\, Christchurch\, 8023\, New Zealand
GEO:-43.5563579;172.6801756
X-APPLE-STRUCTURED-LOCATION;VALUE=URI;X-ADDRESS=1 Garlands Rd Woolston Christchurch 8023 New Zealand;X-APPLE-RADIUS=500;X-TITLE=1 Garlands Rd:geo:172.6801756,-43.5563579
CATEGORIES:Retailer Pop-Up Demos
END:VEVENT
BEGIN:VEVENT
DTSTART;VALUE=DATE:20171204
DTEND;VALUE=DATE:20171211
DTSTAMP:20180125T020515
CREATED:20170711T004107Z
LAST-MODIFIED:20170914T000333Z
UID:418-1512345600-1512950399@specializedbikedemo.co.nz
SUMMARY:Morrinsville MTB Pop-Up Demo
DESCRIPTION:Demo bikes available to test: \n\nEPIC:\n\nEpic Comp Carbon S\nEpic Comp Carbon M\nEpic Comp Carbon L\nEpic Comp Carbon XL\nClick HERE to learn more about the Epic\n\n\nSTUMPJUMPER:\n\nStumpjumper 650B Comp Carbon M\nStumpjumper 650B Comp Carbon L\nStumpjumper 29 Comp Carbon M\nStumpjumper 29 Comp Carbon L\nClick HERE to learn more about the Stumpjumper\n\n\nENDURO:\n\nEnduro Comp 650B S\nEnduro Comp 650B M\nEnduro Comp 650B L\nEnduro Comp 29 M\nEnduro Comp 29 L\nEnduro Comp 29 XL\nClick HERE to learn more about the Enduro\n\n\n\n\n
URL:http://specializedbikedemo.co.nz/event/demo-trailer-3-11/
LOCATION:237 Thames St\, Morrinsville\, 3300\, New Zealand
GEO:-37.6570253;175.5298446
X-APPLE-STRUCTURED-LOCATION;VALUE=URI;X-ADDRESS=237 Thames St Morrinsville 3300 New Zealand;X-APPLE-RADIUS=500;X-TITLE=237 Thames St:geo:175.5298446,-37.6570253
CATEGORIES:Retailer Pop-Up Demos
END:VEVENT
END:VCALENDAR