BEGIN:VCALENDAR
VERSION:2.0
PRODID:-//Specialized New Zealand Bike Demo - ECPv4.6.9//NONSGML v1.0//EN
CALSCALE:GREGORIAN
METHOD:PUBLISH
X-WR-CALNAME:Specialized New Zealand Bike Demo
X-ORIGINAL-URL:http://specializedbikedemo.co.nz
X-WR-CALDESC:Events for Specialized New Zealand Bike Demo
BEGIN:VEVENT
DTSTART;VALUE=DATE:20171218
DTEND;VALUE=DATE:20171225
DTSTAMP:20180125T042456
CREATED:20170710T061402Z
LAST-MODIFIED:20170914T000249Z
UID:351-1513555200-1514159999@specializedbikedemo.co.nz
SUMMARY:Hamilton MTB Pop-Up Demo
DESCRIPTION:Demo bikes available to test: \n\nSTUMPJUMPER:\n\nStumpjumper 650B Comp Carbon S\nStumpjumper 650B Comp Carbon M\nStumpjumper 650B Comp Carbon L\nStumpjumper 29 Comp Carbon M\nStumpjumper 29 Comp Carbon L\nStumpjumper 29 Comp Carbon XL\nClick HERE to learn more about the Stumpjumper\n\n\nENDURO:\n\nEnduro Comp 650B S\nEnduro Comp 650B M\nEnduro Comp 29 M\nEnduro Comp 29 L\nClick HERE to learn more about the Enduro\n\n\nTURBO LEVO:\n\nLevo 6Fattie S\nLevo 6Fattie M\nLevo 6Fattie L\nLevo 6Fattie XL\nClick HERE to learn more about the Turbo Levo\n\n\n\n\n
URL:http://specializedbikedemo.co.nz/event/demo-trailer-1-9/
LOCATION:Kahikatea Drive & Latham Court\, Frankton\, Hamilton\, 3204\, New Zealand
GEO:-37.8055796;175.2612059
X-APPLE-STRUCTURED-LOCATION;VALUE=URI;X-ADDRESS=Kahikatea Drive & Latham Court Frankton Hamilton 3204 New Zealand;X-APPLE-RADIUS=500;X-TITLE=Kahikatea Drive & Latham Court:geo:175.2612059,-37.8055796
CATEGORIES:Retailer Pop-Up Demos
END:VEVENT
BEGIN:VEVENT
DTSTART;VALUE=DATE:20171218
DTEND;VALUE=DATE:20171225
DTSTAMP:20180125T042456
CREATED:20170710T234406Z
LAST-MODIFIED:20170914T000240Z
UID:389-1513555200-1514159999@specializedbikedemo.co.nz
SUMMARY:Motueka MTB Pop-Up Demo
DESCRIPTION:Demo bikes available to test: \n\nEPIC:\n\nEpic Comp Carbon S\nEpic Comp Carbon M\nEpic Comp Carbon L\nEpic Comp Carbon XL\nEpic Comp Carbon Women’s S\nClick HERE to learn more about the Epic\n\n\nCAMBER:\n\nCamber Comp Carbon S\nCamber Comp Carbon M\nCamber Comp Carbon L\nCamber Comp Carbon XL\nClick HERE to learn more about the Camber\n\n\nSTUMPJUMPER:\n\nStumpjumper Comp Carbon 29 M\nStumpjumper Comp Carbon 29 L\nClick HERE to learn more about the Stumpjumper\n\n\nTURBO LEVO:\n\nLevo 6Fattie S\nLevo 6Fattie M\nLevo 6Fattie L\nClick HERE to learn more about the Turbo Levo\n\n\n\n\n
URL:http://specializedbikedemo.co.nz/event/demo-trailer-2-14/
LOCATION:255 High Street\, Motueka\, 7120\, New Zealand
GEO:-41.114104;173.0112139
X-APPLE-STRUCTURED-LOCATION;VALUE=URI;X-ADDRESS=255 High Street Motueka 7120 New Zealand;X-APPLE-RADIUS=500;X-TITLE=255 High Street:geo:173.0112139,-41.114104
CATEGORIES:Retailer Pop-Up Demos
END:VEVENT
END:VCALENDAR